BEGIN:VCALENDAR
VERSION:2.0
PRODID:https://walddoerfer-sv.de/
BEGIN:VTIMEZONE
TZID:Europe/Berlin
X-LIC-LOCATION:Europe/Berlin
BEGIN:DAYLIGHT
TZOFFSETFROM:+0100
TZOFFSETTO:+0200
TZNAME:CEST
DTSTART:19700329T020000
RRULE:FREQ=YEARLY;BYDAY=-1SU;BYMONTH=3
END:DAYLIGHT
BEGIN:STANDARD
TZOFFSETFROM:+0200
TZOFFSETTO:+0100
TZNAME:CET
DTSTART:19701025T030000
RRULE:FREQ=YEARLY;BYDAY=-1SU;BYMONTH=10
END:STANDARD
END:VTIMEZONE
BEGIN:VEVENT
LOCATION:Bezirkssporthalle Walddörfer (Walddörfer Gymnasium)
UID:5e6a4a68696348a4128d92960a1831ed@walddoerfer-sv.de
SUMMARY:Basketball: 1. Herren treten in Volksdorf gegen EBC Rostock an
DESCRIPTION:Heimspiel
CLASS:PUBLIC
DTSTART;TZID=Europe/Berlin:20191102T193000
DTEND;TZID=Europe/Berlin:20191102T213000
DTSTAMP:20191030T180402
END:VEVENT
END:VCALENDAR