BEGIN:VCALENDAR
VERSION:2.0
PRODID:https://walddoerfer-sv.de/
BEGIN:VTIMEZONE
TZID:Europe/Berlin
X-LIC-LOCATION:Europe/Berlin
BEGIN:DAYLIGHT
TZOFFSETFROM:+0100
TZOFFSETTO:+0200
TZNAME:CEST
DTSTART:19700329T020000
RRULE:FREQ=YEARLY;BYDAY=-1SU;BYMONTH=3
END:DAYLIGHT
BEGIN:STANDARD
TZOFFSETFROM:+0200
TZOFFSETTO:+0100
TZNAME:CET
DTSTART:19701025T030000
RRULE:FREQ=YEARLY;BYDAY=-1SU;BYMONTH=10
END:STANDARD
END:VTIMEZONE
BEGIN:VEVENT
LOCATION:Mehrzweckhalle Stadtteilschule Walddörfer
UID:2dea479f31b7dd3d4f545ec892d03627@walddoerfer-sv.de
SUMMARY:Basketball 2. Regionalliga: WSV - BG Halstenbek/Pinneberg
DESCRIPTION:Heimspiel
CLASS:PUBLIC
DTSTART;TZID=Europe/Berlin:20191130T190000
DTEND;TZID=Europe/Berlin:20191130T210000
DTSTAMP:20190923T141709
END:VEVENT
END:VCALENDAR