BEGIN:VCALENDAR
VERSION:2.0
PRODID:https://walddoerfer-sv.de/
BEGIN:VTIMEZONE
TZID:Europe/Berlin
X-LIC-LOCATION:Europe/Berlin
BEGIN:DAYLIGHT
TZOFFSETFROM:+0100
TZOFFSETTO:+0200
TZNAME:CEST
DTSTART:19700329T020000
RRULE:FREQ=YEARLY;BYDAY=-1SU;BYMONTH=3
END:DAYLIGHT
BEGIN:STANDARD
TZOFFSETFROM:+0200
TZOFFSETTO:+0100
TZNAME:CET
DTSTART:19701025T030000
RRULE:FREQ=YEARLY;BYDAY=-1SU;BYMONTH=10
END:STANDARD
END:VTIMEZONE
BEGIN:VEVENT
LOCATION:Sporthalle des Walddörfer Gymnasiums („grüne Halle“)
UID:793fae9566e66c9b732baead76423283@walddoerfer-sv.de
SUMMARY:Basketball 2. Regionalliga: WSV - Blau-Weiß Ellas von 1981
DESCRIPTION:Heimspiel
CLASS:PUBLIC
DTSTART;TZID=Europe/Berlin:20191214T190000
DTEND;TZID=Europe/Berlin:20191214T210000
DTSTAMP:20191204T141134
END:VEVENT
END:VCALENDAR