BEGIN:VCALENDAR
VERSION:2.0
PRODID:https://walddoerfer-sv.de/
BEGIN:VTIMEZONE
TZID:Europe/Berlin
X-LIC-LOCATION:Europe/Berlin
BEGIN:DAYLIGHT
TZOFFSETFROM:+0100
TZOFFSETTO:+0200
TZNAME:CEST
DTSTART:19700329T020000
RRULE:FREQ=YEARLY;BYDAY=-1SU;BYMONTH=3
END:DAYLIGHT
BEGIN:STANDARD
TZOFFSETFROM:+0200
TZOFFSETTO:+0100
TZNAME:CET
DTSTART:19701025T030000
RRULE:FREQ=YEARLY;BYDAY=-1SU;BYMONTH=10
END:STANDARD
END:VTIMEZONE
BEGIN:VEVENT
LOCATION:Mehrzweckhalle Stadtteilschule Walddörfer
UID:ee8ec42b67570166d67112f08a49e416@walddoerfer-sv.de
SUMMARY:Basketball Herren 2. Regionalliga Nord: WSV - Itzehoe Eagles
DESCRIPTION:Beim zweiten Heimspiel unserer 1. Herren sind die Itzehoe Eagles zu Gast in Volksdorf.
CLASS:PUBLIC
DTSTART;TZID=Europe/Berlin:20191012T190000
DTEND;TZID=Europe/Berlin:20191012T210000
DTSTAMP:20190923T141312
END:VEVENT
END:VCALENDAR