BEGIN:VCALENDAR
VERSION:2.0
PRODID:https://walddoerfer-sv.de/
BEGIN:VTIMEZONE
TZID:Europe/Berlin
X-LIC-LOCATION:Europe/Berlin
BEGIN:DAYLIGHT
TZOFFSETFROM:+0100
TZOFFSETTO:+0200
TZNAME:CEST
DTSTART:19700329T020000
RRULE:FREQ=YEARLY;BYDAY=-1SU;BYMONTH=3
END:DAYLIGHT
BEGIN:STANDARD
TZOFFSETFROM:+0200
TZOFFSETTO:+0100
TZNAME:CET
DTSTART:19701025T030000
RRULE:FREQ=YEARLY;BYDAY=-1SU;BYMONTH=10
END:STANDARD
END:VTIMEZONE
BEGIN:VEVENT
LOCATION:Sporthalle Berner Au
UID:0d650db7a119240048dd4f348fbf4ce3@walddoerfer-sv.de
SUMMARY:Hamburger Michel 2020 - Internationales Junioren-Florett-Turnier - Absage
DESCRIPTION:Aufgrund der Allgemeinverfügung des Hamburger Senats kann die Veranstaltung nicht wie geplant am 22.03.2020 stattfinden.
Weitere Infos siehe unter https://walddoerfer-sv.de.
CLASS:PUBLIC
DTSTART;TZID=Europe/Berlin:20200322T100000
DTEND;TZID=Europe/Berlin:20200322T170000
DTSTAMP:20200317T115244
END:VEVENT
END:VCALENDAR