BEGIN:VCALENDAR
VERSION:2.0
PRODID:https://walddoerfer-sv.de/
BEGIN:VTIMEZONE
TZID:Europe/Berlin
X-LIC-LOCATION:Europe/Berlin
BEGIN:DAYLIGHT
TZOFFSETFROM:+0100
TZOFFSETTO:+0200
TZNAME:CEST
DTSTART:19700329T020000
RRULE:FREQ=YEARLY;BYDAY=-1SU;BYMONTH=3
END:DAYLIGHT
BEGIN:STANDARD
TZOFFSETFROM:+0200
TZOFFSETTO:+0100
TZNAME:CET
DTSTART:19701025T030000
RRULE:FREQ=YEARLY;BYDAY=-1SU;BYMONTH=10
END:STANDARD
END:VTIMEZONE
BEGIN:VEVENT
LOCATION:Allhornstadion
UID:9335d7aa9f062ba7f4c843360848b509@walddoerfer-sv.de
SUMMARY:A-Jugend Regionalliga: Walddörfer SV gegen Altona 93
DESCRIPTION:
CLASS:PUBLIC
DTSTART;TZID=Europe/Berlin:20250831T130000
DTEND;TZID=Europe/Berlin:20250831T150000
DTSTAMP:20250831T124543
END:VEVENT
END:VCALENDAR