BEGIN:VCALENDAR
VERSION:2.0
PRODID:https://walddoerfer-sv.de/
BEGIN:VTIMEZONE
TZID:Europe/Berlin
X-LIC-LOCATION:Europe/Berlin
BEGIN:DAYLIGHT
TZOFFSETFROM:+0100
TZOFFSETTO:+0200
TZNAME:CEST
DTSTART:19700329T020000
RRULE:FREQ=YEARLY;BYDAY=-1SU;BYMONTH=3
END:DAYLIGHT
BEGIN:STANDARD
TZOFFSETFROM:+0200
TZOFFSETTO:+0100
TZNAME:CET
DTSTART:19701025T030000
RRULE:FREQ=YEARLY;BYDAY=-1SU;BYMONTH=10
END:STANDARD
END:VTIMEZONE
BEGIN:VEVENT
LOCATION:Walddörfer Sportforum, Clubraum 2
UID:ae82df686c26909abe4d0a24b003abab@walddoerfer-sv.de
SUMMARY:Abteilungsversammlung Fußball 2020
DESCRIPTION:
CLASS:PUBLIC
DTSTART;TZID=Europe/Berlin:20200224T200000
DTEND;TZID=Europe/Berlin:20200224T220000
DTSTAMP:20200102T134122
END:VEVENT
END:VCALENDAR