BEGIN:VCALENDAR
VERSION:2.0
PRODID:https://walddoerfer-sv.de/
BEGIN:VTIMEZONE
TZID:Europe/Berlin
X-LIC-LOCATION:Europe/Berlin
BEGIN:DAYLIGHT
TZOFFSETFROM:+0100
TZOFFSETTO:+0200
TZNAME:CEST
DTSTART:19700329T020000
RRULE:FREQ=YEARLY;BYDAY=-1SU;BYMONTH=3
END:DAYLIGHT
BEGIN:STANDARD
TZOFFSETFROM:+0200
TZOFFSETTO:+0100
TZNAME:CET
DTSTART:19701025T030000
RRULE:FREQ=YEARLY;BYDAY=-1SU;BYMONTH=10
END:STANDARD
END:VTIMEZONE
BEGIN:VEVENT
LOCATION:Sporthalle Berner Au, Seezimmer
UID:b9014e21b2c889a68103aefbf24d300c@walddoerfer-sv.de
SUMMARY:Abteilungsversammlung Fussball 2025
DESCRIPTION:
CLASS:PUBLIC
DTSTART;TZID=Europe/Berlin:20250224T183000
DTEND;TZID=Europe/Berlin:20250224T203000
DTSTAMP:20241218T120035
END:VEVENT
END:VCALENDAR