BEGIN:VCALENDAR
VERSION:2.0
PRODID:https://walddoerfer-sv.de/
BEGIN:VTIMEZONE
TZID:Europe/Berlin
X-LIC-LOCATION:Europe/Berlin
BEGIN:DAYLIGHT
TZOFFSETFROM:+0100
TZOFFSETTO:+0200
TZNAME:CEST
DTSTART:19700329T020000
RRULE:FREQ=YEARLY;BYDAY=-1SU;BYMONTH=3
END:DAYLIGHT
BEGIN:STANDARD
TZOFFSETFROM:+0200
TZOFFSETTO:+0100
TZNAME:CET
DTSTART:19701025T030000
RRULE:FREQ=YEARLY;BYDAY=-1SU;BYMONTH=10
END:STANDARD
END:VTIMEZONE
BEGIN:VEVENT
LOCATION:Sporthalle Berner Au, Clubhaus
UID:98bf45983155d38e7b8d47e2c78b96e5@walddoerfer-sv.de
SUMMARY:Abteilungsversammlung Fussball 2026
DESCRIPTION:
CLASS:PUBLIC
DTSTART;TZID=Europe/Berlin:20260223T190000
DTEND;TZID=Europe/Berlin:20260223T210000
DTSTAMP:20251218T143615
END:VEVENT
END:VCALENDAR