BEGIN:VCALENDAR
VERSION:2.0
PRODID:https://walddoerfer-sv.de/
BEGIN:VTIMEZONE
TZID:Europe/Berlin
X-LIC-LOCATION:Europe/Berlin
BEGIN:DAYLIGHT
TZOFFSETFROM:+0100
TZOFFSETTO:+0200
TZNAME:CEST
DTSTART:19700329T020000
RRULE:FREQ=YEARLY;BYDAY=-1SU;BYMONTH=3
END:DAYLIGHT
BEGIN:STANDARD
TZOFFSETFROM:+0200
TZOFFSETTO:+0100
TZNAME:CET
DTSTART:19701025T030000
RRULE:FREQ=YEARLY;BYDAY=-1SU;BYMONTH=10
END:STANDARD
END:VTIMEZONE
BEGIN:VEVENT
LOCATION:Allhornstadion
UID:58d214c402f6bfc93724bfbed665b55b@walddoerfer-sv.de
SUMMARY:B-Jugend Oberliga Testspiel: Walddörfer 1.B - TSV Klausdorf B-Junioren
DESCRIPTION:Zu Gast im Allhorn ist die B-Jugend Oberliga des TSV Klausdorf aus Schleswig-Holstein.
CLASS:PUBLIC
DTSTART;TZID=Europe/Berlin:20220813T100000
DTEND;TZID=Europe/Berlin:20220813T113000
DTSTAMP:20220812T091508
END:VEVENT
END:VCALENDAR