BEGIN:VCALENDAR
VERSION:2.0
PRODID:https://walddoerfer-sv.de/
BEGIN:VTIMEZONE
TZID:Europe/Berlin
X-LIC-LOCATION:Europe/Berlin
BEGIN:DAYLIGHT
TZOFFSETFROM:+0100
TZOFFSETTO:+0200
TZNAME:CEST
DTSTART:19700329T020000
RRULE:FREQ=YEARLY;BYDAY=-1SU;BYMONTH=3
END:DAYLIGHT
BEGIN:STANDARD
TZOFFSETFROM:+0200
TZOFFSETTO:+0100
TZNAME:CET
DTSTART:19701025T030000
RRULE:FREQ=YEARLY;BYDAY=-1SU;BYMONTH=10
END:STANDARD
END:VTIMEZONE
BEGIN:VEVENT
LOCATION:Allhornstadion
UID:dd02ee0e0bc9c6e7dc279cfe662a4aca@walddoerfer-sv.de
SUMMARY:B-Junioren Oberliga: Walddörfer 1.B-Junioren - VfL Pinneberg 1.B-Junioren
DESCRIPTION:Es geht los - die Punktspielrunde 2022/2023 beginnt. Viel Erfolg wünschen wir unseren B-Junioren in der Oberliga Hamburg!
CLASS:PUBLIC
DTSTART;TZID=Europe/Berlin:20220827T123000
DTEND;TZID=Europe/Berlin:20220827T140000
DTSTAMP:20220826T225317
END:VEVENT
END:VCALENDAR