BEGIN:VCALENDAR
VERSION:2.0
PRODID:https://walddoerfer-sv.de/
BEGIN:VTIMEZONE
TZID:Europe/Berlin
X-LIC-LOCATION:Europe/Berlin
BEGIN:DAYLIGHT
TZOFFSETFROM:+0100
TZOFFSETTO:+0200
TZNAME:CEST
DTSTART:19700329T020000
RRULE:FREQ=YEARLY;BYDAY=-1SU;BYMONTH=3
END:DAYLIGHT
BEGIN:STANDARD
TZOFFSETFROM:+0200
TZOFFSETTO:+0100
TZNAME:CET
DTSTART:19701025T030000
RRULE:FREQ=YEARLY;BYDAY=-1SU;BYMONTH=10
END:STANDARD
END:VTIMEZONE
BEGIN:VEVENT
LOCATION:Allhornstadion
UID:9bbf4ed898bfb2c3872fe5efd0d048d2@walddoerfer-sv.de
SUMMARY:B-Mädchen Oberliga Hamburg: Walddörfer 1.B Mädchen - VfL Pinneberg 1.B Mädchen
DESCRIPTION:Ein schweres Spiel steht für unsere B-Mädchen in der Oberliga auf dem Programm. Bisher konnten unsere Mädels 8 Punkte einsammeln, der Gegner Pinneberg bereits 17. Kein leichtes Unterfangen, aber 11 Punkte nach dem Spiel wären schon schön!
CLASS:PUBLIC
DTSTART;TZID=Europe/Berlin:20240302T120000
DTEND;TZID=Europe/Berlin:20240302T133000
DTSTAMP:20240301T000454
END:VEVENT
END:VCALENDAR