BEGIN:VCALENDAR
VERSION:2.0
PRODID:https://walddoerfer-sv.de/
BEGIN:VTIMEZONE
TZID:Europe/Berlin
X-LIC-LOCATION:Europe/Berlin
BEGIN:DAYLIGHT
TZOFFSETFROM:+0100
TZOFFSETTO:+0200
TZNAME:CEST
DTSTART:19700329T020000
RRULE:FREQ=YEARLY;BYDAY=-1SU;BYMONTH=3
END:DAYLIGHT
BEGIN:STANDARD
TZOFFSETFROM:+0200
TZOFFSETTO:+0100
TZNAME:CET
DTSTART:19701025T030000
RRULE:FREQ=YEARLY;BYDAY=-1SU;BYMONTH=10
END:STANDARD
END:VTIMEZONE
BEGIN:VEVENT
LOCATION:Allhornstadion
UID:0e84608f64468c6066b06ad8576f289f@walddoerfer-sv.de
SUMMARY:B-Mädchen Oberliga: Walddörfer 1.B-Mädchen - ETV 2.B-Mädchen
DESCRIPTION:2 Spiele - 2 Siege. So kommen die Mädels aus Eimsbüttel zu uns. Da müssen wir bei 110% sein am Samstag!
CLASS:PUBLIC
DTSTART;TZID=Europe/Berlin:20220910T120000
DTEND;TZID=Europe/Berlin:20220910T133000
DTSTAMP:20220908T131031
END:VEVENT
END:VCALENDAR