BEGIN:VCALENDAR
VERSION:2.0
PRODID:https://walddoerfer-sv.de/
BEGIN:VTIMEZONE
TZID:Europe/Berlin
X-LIC-LOCATION:Europe/Berlin
BEGIN:DAYLIGHT
TZOFFSETFROM:+0100
TZOFFSETTO:+0200
TZNAME:CEST
DTSTART:19700329T020000
RRULE:FREQ=YEARLY;BYDAY=-1SU;BYMONTH=3
END:DAYLIGHT
BEGIN:STANDARD
TZOFFSETFROM:+0200
TZOFFSETTO:+0100
TZNAME:CET
DTSTART:19701025T030000
RRULE:FREQ=YEARLY;BYDAY=-1SU;BYMONTH=10
END:STANDARD
END:VTIMEZONE
BEGIN:VEVENT
LOCATION:Allhornstadion
UID:57826907f0b1807e37f2a42e428d8c8f@walddoerfer-sv.de
SUMMARY:B-Mädchen Oberliga: Walddörfer 1.B Mädchen - Wellingsbüttel 1.B Mädchen
DESCRIPTION:Saisonauftakt gegen unsere Nachbarinnen aus Wellingsbüttel!
CLASS:PUBLIC
DTSTART;TZID=Europe/Berlin:20250910T180000
DTEND;TZID=Europe/Berlin:20250910T200000
DTSTAMP:20250831T130113
END:VEVENT
END:VCALENDAR