BEGIN:VCALENDAR
VERSION:2.0
PRODID:https://walddoerfer-sv.de/
BEGIN:VTIMEZONE
TZID:Europe/Berlin
X-LIC-LOCATION:Europe/Berlin
BEGIN:DAYLIGHT
TZOFFSETFROM:+0100
TZOFFSETTO:+0200
TZNAME:CEST
DTSTART:19700329T020000
RRULE:FREQ=YEARLY;BYDAY=-1SU;BYMONTH=3
END:DAYLIGHT
BEGIN:STANDARD
TZOFFSETFROM:+0200
TZOFFSETTO:+0100
TZNAME:CET
DTSTART:19701025T030000
RRULE:FREQ=YEARLY;BYDAY=-1SU;BYMONTH=10
END:STANDARD
END:VTIMEZONE
BEGIN:VEVENT
LOCATION:Allhornstadion
UID:028451c475f36ffb44876c25d300e05f@walddoerfer-sv.de
SUMMARY:C-Mädchen Oberliga: Walddörfer 1.C Mädchen - Altona 93 1.C Mädchen
DESCRIPTION:1. Spieltag
CLASS:PUBLIC
DTSTART;TZID=Europe/Berlin:20250914T113000
DTEND;TZID=Europe/Berlin:20250914T130000
DTSTAMP:20250909T233928
END:VEVENT
END:VCALENDAR