BEGIN:VCALENDAR
VERSION:2.0
PRODID:https://walddoerfer-sv.de/
BEGIN:VTIMEZONE
TZID:Europe/Berlin
X-LIC-LOCATION:Europe/Berlin
BEGIN:DAYLIGHT
TZOFFSETFROM:+0100
TZOFFSETTO:+0200
TZNAME:CEST
DTSTART:19700329T020000
RRULE:FREQ=YEARLY;BYDAY=-1SU;BYMONTH=3
END:DAYLIGHT
BEGIN:STANDARD
TZOFFSETFROM:+0200
TZOFFSETTO:+0100
TZNAME:CET
DTSTART:19701025T030000
RRULE:FREQ=YEARLY;BYDAY=-1SU;BYMONTH=10
END:STANDARD
END:VTIMEZONE
BEGIN:VEVENT
LOCATION:Bayer-Halle
UID:96bf331e23265d5c5c7c7943b70dfe4d@walddoerfer-sv.de
SUMMARY:DFB-Juniorinnen Futsal-Cup 2017 //  Walddörfer 1.B-Mäd. - 1.FC Nürnberg
DESCRIPTION:Walddörfer SV 1.B-Mäd. spielen in Wuppertal um die Deutsche Futsal-Meisterschaft
CLASS:PUBLIC
DTSTART;TZID=Europe/Berlin:20170312T105000
DTEND;TZID=Europe/Berlin:20170312T125000
DTSTAMP:20170307T205840
END:VEVENT
END:VCALENDAR