BEGIN:VCALENDAR
VERSION:2.0
PRODID:https://walddoerfer-sv.de/
BEGIN:VTIMEZONE
TZID:Europe/Berlin
X-LIC-LOCATION:Europe/Berlin
BEGIN:DAYLIGHT
TZOFFSETFROM:+0100
TZOFFSETTO:+0200
TZNAME:CEST
DTSTART:19700329T020000
RRULE:FREQ=YEARLY;BYDAY=-1SU;BYMONTH=3
END:DAYLIGHT
BEGIN:STANDARD
TZOFFSETFROM:+0200
TZOFFSETTO:+0100
TZNAME:CET
DTSTART:19701025T030000
RRULE:FREQ=YEARLY;BYDAY=-1SU;BYMONTH=10
END:STANDARD
END:VTIMEZONE
BEGIN:VEVENT
LOCATION:Allhorn Stadion
UID:04adbf1c330c252b9c1c0d866ad107f8@walddoerfer-sv.de
SUMMARY:Eulencup Fussballturnier
DESCRIPTION:Der Eulencup ist seit vielen Jahren ein großes Schul-Fussball-Turnier. Es wird von der Eulenkrugschule in Kooperation mit dem Walddörfer SV ausgerichtet. Es nehmen ca. 50 Klassenteams der Grundschulen Eulenkrugstrasse und Ahrensburger Weg daran teil. Zuschauer sind herzlich willkommen!
CLASS:PUBLIC
DTSTART;TZID=Europe/Berlin:20190928T080000
DTEND;TZID=Europe/Berlin:20190928T180000
DTSTAMP:20190807T220531
END:VEVENT
END:VCALENDAR