BEGIN:VCALENDAR
VERSION:2.0
PRODID:https://walddoerfer-sv.de/
BEGIN:VTIMEZONE
TZID:Europe/Berlin
X-LIC-LOCATION:Europe/Berlin
BEGIN:DAYLIGHT
TZOFFSETFROM:+0100
TZOFFSETTO:+0200
TZNAME:CEST
DTSTART:19700329T020000
RRULE:FREQ=YEARLY;BYDAY=-1SU;BYMONTH=3
END:DAYLIGHT
BEGIN:STANDARD
TZOFFSETFROM:+0200
TZOFFSETTO:+0100
TZNAME:CET
DTSTART:19701025T030000
RRULE:FREQ=YEARLY;BYDAY=-1SU;BYMONTH=10
END:STANDARD
END:VTIMEZONE
BEGIN:VEVENT
LOCATION:Allhornstadion
UID:1359acc7016e6022c27446a9723534d4@walddoerfer-sv.de
SUMMARY:Frauen Landesliga Hamburg: Walddörfer 2.Frauen - Eimsbüttel 2.Frauen
DESCRIPTION:&quot;Kleiner&quot; Showdown im Allhorn. Der Tabellenführer ETV 2.Frauen kommt zum &quot;kleinen&quot; Spitzenspiel ins Allhorn. Unsere 2.Frauen ist aktuell Vierter der Tabelle. Wir freuen uns auf euren Support und im Anschluss geht es mit den 1.Frauen gegen ETV 1.Frauen weiter.
CLASS:PUBLIC
DTSTART;TZID=Europe/Berlin:20240303T123000
DTEND;TZID=Europe/Berlin:20240303T143000
DTSTAMP:20240229T232250
END:VEVENT
END:VCALENDAR