BEGIN:VCALENDAR
VERSION:2.0
PRODID:https://walddoerfer-sv.de/
BEGIN:VTIMEZONE
TZID:Europe/Berlin
X-LIC-LOCATION:Europe/Berlin
BEGIN:DAYLIGHT
TZOFFSETFROM:+0100
TZOFFSETTO:+0200
TZNAME:CEST
DTSTART:19700329T020000
RRULE:FREQ=YEARLY;BYDAY=-1SU;BYMONTH=3
END:DAYLIGHT
BEGIN:STANDARD
TZOFFSETFROM:+0200
TZOFFSETTO:+0100
TZNAME:CET
DTSTART:19701025T030000
RRULE:FREQ=YEARLY;BYDAY=-1SU;BYMONTH=10
END:STANDARD
END:VTIMEZONE
BEGIN:VEVENT
LOCATION:Allhornstadion
UID:acbcda085f269acbb221162a23145c2a@walddoerfer-sv.de
SUMMARY:Frauen Landesliga Hamburg: Walddörfer 2.Frauen - SV Eidelstedt 1.Frauen
DESCRIPTION:Zu Gast im Allhorn sind die gegen die Abstieg kämpfenden Gäste aus Eidelstedt. Mit einem Sieg könnten wir theoretisch wieder auf den 3. Tabellenplatz klettern. Wir freuen uns auf euren Support und im Anschluss geht es mit den 1.Frauen gegen St. Pauli 2.Frauen weiter.
CLASS:PUBLIC
DTSTART;TZID=Europe/Berlin:20240317T110000
DTEND;TZID=Europe/Berlin:20240317T130000
DTSTAMP:20240316T192153
END:VEVENT
END:VCALENDAR