BEGIN:VCALENDAR
VERSION:2.0
PRODID:https://walddoerfer-sv.de/
BEGIN:VTIMEZONE
TZID:Europe/Berlin
X-LIC-LOCATION:Europe/Berlin
BEGIN:DAYLIGHT
TZOFFSETFROM:+0100
TZOFFSETTO:+0200
TZNAME:CEST
DTSTART:19700329T020000
RRULE:FREQ=YEARLY;BYDAY=-1SU;BYMONTH=3
END:DAYLIGHT
BEGIN:STANDARD
TZOFFSETFROM:+0200
TZOFFSETTO:+0100
TZNAME:CET
DTSTART:19701025T030000
RRULE:FREQ=YEARLY;BYDAY=-1SU;BYMONTH=10
END:STANDARD
END:VTIMEZONE
BEGIN:VEVENT
LOCATION:Allhornstadion
UID:a29311b12accb9a95e1d9f03b48381d9@walddoerfer-sv.de
SUMMARY:Frauen Oberliga Hamburg: Walddörfer 1.Frauen - Eimsbüttel 1.Frauen
DESCRIPTION:Showdown im Allhorn. Der Tabellenführer ETV 1.Frauen (37 Punkte) kommt zum Spitzenspiel ins Allhorn. Unsere 1.Frauen ist aktuell Tabellenzweiter mit 35 Punkten. Schaffen wir es an die Spitze? Wir freuen uns auf euren Support!
CLASS:PUBLIC
DTSTART;TZID=Europe/Berlin:20240303T143000
DTEND;TZID=Europe/Berlin:20240303T163000
DTSTAMP:20240229T133817
END:VEVENT
END:VCALENDAR