BEGIN:VCALENDAR
VERSION:2.0
PRODID:https://walddoerfer-sv.de/
BEGIN:VTIMEZONE
TZID:Europe/Berlin
X-LIC-LOCATION:Europe/Berlin
BEGIN:DAYLIGHT
TZOFFSETFROM:+0100
TZOFFSETTO:+0200
TZNAME:CEST
DTSTART:19700329T020000
RRULE:FREQ=YEARLY;BYDAY=-1SU;BYMONTH=3
END:DAYLIGHT
BEGIN:STANDARD
TZOFFSETFROM:+0200
TZOFFSETTO:+0100
TZNAME:CET
DTSTART:19701025T030000
RRULE:FREQ=YEARLY;BYDAY=-1SU;BYMONTH=10
END:STANDARD
END:VTIMEZONE
BEGIN:VEVENT
LOCATION:Allhornstadion
UID:3facd5a97084a3a8e8ad0da5833ca135@walddoerfer-sv.de
SUMMARY:Frauen Oberliga Hamburg: Walddörfer 1.Frauen - FC St. Pauli 2.Frauen
DESCRIPTION:Spitzenpartie im Allhorn. Der Tabellenzweite St. Pauli 2.Frauen (39 Punkte) kommt zum Spitzenspiel ins Allhorn. Unsere 1.Frauen ist aktuell Tabellendritter mit 38 Punkten. Schaffen wir es an St. Pauli vorbei zu kommen? Wir freuen uns auf euren Support!
CLASS:PUBLIC
DTSTART;TZID=Europe/Berlin:20240317T130000
DTEND;TZID=Europe/Berlin:20240317T150000
DTSTAMP:20240316T130844
END:VEVENT
END:VCALENDAR