BEGIN:VCALENDAR
VERSION:2.0
PRODID:https://walddoerfer-sv.de/
BEGIN:VTIMEZONE
TZID:Europe/Berlin
X-LIC-LOCATION:Europe/Berlin
BEGIN:DAYLIGHT
TZOFFSETFROM:+0100
TZOFFSETTO:+0200
TZNAME:CEST
DTSTART:19700329T020000
RRULE:FREQ=YEARLY;BYDAY=-1SU;BYMONTH=3
END:DAYLIGHT
BEGIN:STANDARD
TZOFFSETFROM:+0200
TZOFFSETTO:+0100
TZNAME:CET
DTSTART:19701025T030000
RRULE:FREQ=YEARLY;BYDAY=-1SU;BYMONTH=10
END:STANDARD
END:VTIMEZONE
BEGIN:VEVENT
LOCATION:Allhorn Stadion
UID:45f10d588302d88ffeccd823a761e907@walddoerfer-sv.de
SUMMARY:Fußballcamp 2019
DESCRIPTION:Für das Fußballcamp wird außerdem auch die Sportanlage Saseler Weg 6 genutzt.
CLASS:PUBLIC
DTSTART;TZID=Europe/Berlin:20190701T093000
DTEND;TZID=Europe/Berlin:20190705T154500
DTSTAMP:20190315T171717
END:VEVENT
END:VCALENDAR