BEGIN:VCALENDAR
VERSION:2.0
PRODID:https://walddoerfer-sv.de/
BEGIN:VTIMEZONE
TZID:Europe/Berlin
X-LIC-LOCATION:Europe/Berlin
BEGIN:DAYLIGHT
TZOFFSETFROM:+0100
TZOFFSETTO:+0200
TZNAME:CEST
DTSTART:19700329T020000
RRULE:FREQ=YEARLY;BYDAY=-1SU;BYMONTH=3
END:DAYLIGHT
BEGIN:STANDARD
TZOFFSETFROM:+0200
TZOFFSETTO:+0100
TZNAME:CET
DTSTART:19701025T030000
RRULE:FREQ=YEARLY;BYDAY=-1SU;BYMONTH=10
END:STANDARD
END:VTIMEZONE
BEGIN:VEVENT
LOCATION:Allhorn Stadion
UID:3ea8d7b4dc102be92c3160a6d4588da0@walddoerfer-sv.de
SUMMARY:Fußballcamp 2024 - Mädchen
DESCRIPTION:Auch in diesem Jahr bieten wieder wir unser traditonelles Fußballcamp im Allhorn Stadion vom 19. - 23.08.2024 für Vereinsmitglieder &amp; Nichtmitglieder an. 
Das Camp richtet sich an Kinder der Jahrgänge 2011 bis 2018. Kosten 189,- pro Kind - darin enthalten sind ein eigener Fußball, Trikot und Trinkflasche sowie das Mittagessen.
CLASS:PUBLIC
DTSTART;TZID=Europe/Berlin:20240819T090000
DTEND;TZID=Europe/Berlin:20240823T150000
DTSTAMP:20240403T112940
END:VEVENT
END:VCALENDAR