BEGIN:VCALENDAR
VERSION:2.0
PRODID:https://walddoerfer-sv.de/
BEGIN:VTIMEZONE
TZID:Europe/Berlin
X-LIC-LOCATION:Europe/Berlin
BEGIN:DAYLIGHT
TZOFFSETFROM:+0100
TZOFFSETTO:+0200
TZNAME:CEST
DTSTART:19700329T020000
RRULE:FREQ=YEARLY;BYDAY=-1SU;BYMONTH=3
END:DAYLIGHT
BEGIN:STANDARD
TZOFFSETFROM:+0200
TZOFFSETTO:+0100
TZNAME:CET
DTSTART:19701025T030000
RRULE:FREQ=YEARLY;BYDAY=-1SU;BYMONTH=10
END:STANDARD
END:VTIMEZONE
BEGIN:VEVENT
LOCATION:Ahrensburger Weg 28 22359 Hamburg Volksdorf
UID:64f93cdb1ad81527e9083dbdccfea90d@walddoerfer-sv.de
SUMMARY:Fußballcamp Mädchen 2023
DESCRIPTION:Am 14.08. beginnen wir unsere fußballreiche Woche, immer ab 9 Uhr bis 15 Uhr. Die Kinder können aber 8:30 Uhr gebracht werden. Am Freitag wird es ein  kleines Abschlussfest geben. Das Camp richtet sich an Kinder der Jahrgänge 2010 bis 2017. Kosten 189,- pro Kind - darin enthalten sind ein eigener Fußball, Trikot und Trinkflasche sowie das Mittagessen.
CLASS:PUBLIC
DTSTART;TZID=Europe/Berlin:20230814T090000
DTEND;TZID=Europe/Berlin:20230818T150000
DTSTAMP:20230713T171641
END:VEVENT
END:VCALENDAR