BEGIN:VCALENDAR
VERSION:2.0
PRODID:https://walddoerfer-sv.de/
BEGIN:VTIMEZONE
TZID:Europe/Berlin
X-LIC-LOCATION:Europe/Berlin
BEGIN:DAYLIGHT
TZOFFSETFROM:+0100
TZOFFSETTO:+0200
TZNAME:CEST
DTSTART:19700329T020000
RRULE:FREQ=YEARLY;BYDAY=-1SU;BYMONTH=3
END:DAYLIGHT
BEGIN:STANDARD
TZOFFSETFROM:+0200
TZOFFSETTO:+0100
TZNAME:CET
DTSTART:19701025T030000
RRULE:FREQ=YEARLY;BYDAY=-1SU;BYMONTH=10
END:STANDARD
END:VTIMEZONE
BEGIN:VEVENT
LOCATION:
UID:fd22beb7a544876bcebbef998d4ecfd9@walddoerfer-sv.de
SUMMARY:Gothia Cup 2019
DESCRIPTION:Der Gothia Cup ist mit rund 1.700 Mannschaften aus 80 Nationen das größte und internationalste Jugendfußballturnier der Welt. 
Jedes Jahr nehmen rund 1700 Mannschaften aus 80 Ländern teil und tragen 4.500 Spiele auf 110 Plätzen aus.
Der WSV ist dieses Jahr mit 9 Mannschaften veertreten.
CLASS:PUBLIC
DTSTART;TZID=Europe/Berlin:20190713T000000
DTEND;TZID=Europe/Berlin:20190721T000000
DTSTAMP:20190714T170218
END:VEVENT
END:VCALENDAR