BEGIN:VCALENDAR
VERSION:2.0
PRODID:https://walddoerfer-sv.de/
BEGIN:VTIMEZONE
TZID:Europe/Berlin
X-LIC-LOCATION:Europe/Berlin
BEGIN:DAYLIGHT
TZOFFSETFROM:+0100
TZOFFSETTO:+0200
TZNAME:CEST
DTSTART:19700329T020000
RRULE:FREQ=YEARLY;BYDAY=-1SU;BYMONTH=3
END:DAYLIGHT
BEGIN:STANDARD
TZOFFSETFROM:+0200
TZOFFSETTO:+0100
TZNAME:CET
DTSTART:19701025T030000
RRULE:FREQ=YEARLY;BYDAY=-1SU;BYMONTH=10
END:STANDARD
END:VTIMEZONE
BEGIN:VEVENT
LOCATION:Allhorn Stadion
UID:395c735ae729ffaf0d6172e4cc438677@walddoerfer-sv.de
SUMMARY:Hamburg Airport Cup 2025
DESCRIPTION:
CLASS:PUBLIC
DTSTART;TZID=Europe/Berlin:20250712T090000
DTEND;TZID=Europe/Berlin:20250713T170000
DTSTAMP:20250214T110807
END:VEVENT
END:VCALENDAR