BEGIN:VCALENDAR
VERSION:2.0
PRODID:https://walddoerfer-sv.de/
BEGIN:VTIMEZONE
TZID:Europe/Berlin
X-LIC-LOCATION:Europe/Berlin
BEGIN:DAYLIGHT
TZOFFSETFROM:+0100
TZOFFSETTO:+0200
TZNAME:CEST
DTSTART:19700329T020000
RRULE:FREQ=YEARLY;BYDAY=-1SU;BYMONTH=3
END:DAYLIGHT
BEGIN:STANDARD
TZOFFSETFROM:+0200
TZOFFSETTO:+0100
TZNAME:CET
DTSTART:19701025T030000
RRULE:FREQ=YEARLY;BYDAY=-1SU;BYMONTH=10
END:STANDARD
END:VTIMEZONE
BEGIN:VEVENT
LOCATION:Reinmüllerplatz 1
UID:9a414e4f3308bd8f9b5432e29b9003aa@walddoerfer-sv.de
SUMMARY:HEBC 1.Frauen - Walddörfer SV 1.Frauen
DESCRIPTION:Letzter Spieltag
CLASS:PUBLIC
DTSTART;TZID=Europe/Berlin:20170514T130000
DTEND;TZID=Europe/Berlin:20170514T150000
DTSTAMP:20170330T222721
END:VEVENT
END:VCALENDAR