BEGIN:VCALENDAR
VERSION:2.0
PRODID:https://walddoerfer-sv.de/
BEGIN:VTIMEZONE
TZID:Europe/Berlin
X-LIC-LOCATION:Europe/Berlin
BEGIN:DAYLIGHT
TZOFFSETFROM:+0100
TZOFFSETTO:+0200
TZNAME:CEST
DTSTART:19700329T020000
RRULE:FREQ=YEARLY;BYDAY=-1SU;BYMONTH=3
END:DAYLIGHT
BEGIN:STANDARD
TZOFFSETFROM:+0200
TZOFFSETTO:+0100
TZNAME:CET
DTSTART:19701025T030000
RRULE:FREQ=YEARLY;BYDAY=-1SU;BYMONTH=10
END:STANDARD
END:VTIMEZONE
BEGIN:VEVENT
LOCATION:Allhornstadion
UID:17e94a14e51462403535fad0c355ec25@walddoerfer-sv.de
SUMMARY:Internationales Freundschaftsspiel: Walddörfer SV 1.B - Tintwistle Athletic (UK)
DESCRIPTION:Als Vorbereitung auf den Gothia Cup freuen wir uns ein Team aus Manchester im Allhorn begrüßen zu können!
CLASS:PUBLIC
DTSTART;TZID=Europe/Berlin:20230702T131500
DTEND;TZID=Europe/Berlin:20230702T151500
DTSTAMP:20230629T111244
END:VEVENT
END:VCALENDAR