BEGIN:VCALENDAR
VERSION:2.0
PRODID:https://walddoerfer-sv.de/
BEGIN:VTIMEZONE
TZID:Europe/Berlin
X-LIC-LOCATION:Europe/Berlin
BEGIN:DAYLIGHT
TZOFFSETFROM:+0100
TZOFFSETTO:+0200
TZNAME:CEST
DTSTART:19700329T020000
RRULE:FREQ=YEARLY;BYDAY=-1SU;BYMONTH=3
END:DAYLIGHT
BEGIN:STANDARD
TZOFFSETFROM:+0200
TZOFFSETTO:+0100
TZNAME:CET
DTSTART:19701025T030000
RRULE:FREQ=YEARLY;BYDAY=-1SU;BYMONTH=10
END:STANDARD
END:VTIMEZONE
BEGIN:VEVENT
LOCATION:Allhorn Stadion
UID:ad208d0480ab5be747e70947cf7c96e8@walddoerfer-sv.de
SUMMARY:Kreisklasse: Walddörfer 3.Herren - Duwo 2.Herren
DESCRIPTION:
CLASS:PUBLIC
DTSTART;TZID=Europe/Berlin:20191013T170000
DTEND;TZID=Europe/Berlin:20191013T190000
DTSTAMP:20191010T201348
END:VEVENT
END:VCALENDAR