BEGIN:VCALENDAR
VERSION:2.0
PRODID:https://walddoerfer-sv.de/
BEGIN:VTIMEZONE
TZID:Europe/Berlin
X-LIC-LOCATION:Europe/Berlin
BEGIN:DAYLIGHT
TZOFFSETFROM:+0100
TZOFFSETTO:+0200
TZNAME:CEST
DTSTART:19700329T020000
RRULE:FREQ=YEARLY;BYDAY=-1SU;BYMONTH=3
END:DAYLIGHT
BEGIN:STANDARD
TZOFFSETFROM:+0200
TZOFFSETTO:+0100
TZNAME:CET
DTSTART:19701025T030000
RRULE:FREQ=YEARLY;BYDAY=-1SU;BYMONTH=10
END:STANDARD
END:VTIMEZONE
BEGIN:VEVENT
LOCATION:Allhornstadion
UID:7a9ac1bfd370dc3acfff9c755b75d92d@walddoerfer-sv.de
SUMMARY:Kreisliga 2: 2. Herren Walddörfer SV - Lemsahl 1.
DESCRIPTION:
CLASS:PUBLIC
DTSTART;TZID=Europe/Berlin:20221127T123000
DTEND;TZID=Europe/Berlin:20221127T143000
DTSTAMP:20221108T083637
END:VEVENT
END:VCALENDAR