BEGIN:VCALENDAR
VERSION:2.0
PRODID:https://walddoerfer-sv.de/
BEGIN:VTIMEZONE
TZID:Europe/Berlin
X-LIC-LOCATION:Europe/Berlin
BEGIN:DAYLIGHT
TZOFFSETFROM:+0100
TZOFFSETTO:+0200
TZNAME:CEST
DTSTART:19700329T020000
RRULE:FREQ=YEARLY;BYDAY=-1SU;BYMONTH=3
END:DAYLIGHT
BEGIN:STANDARD
TZOFFSETFROM:+0200
TZOFFSETTO:+0100
TZNAME:CET
DTSTART:19701025T030000
RRULE:FREQ=YEARLY;BYDAY=-1SU;BYMONTH=10
END:STANDARD
END:VTIMEZONE
BEGIN:VEVENT
LOCATION:Allhornstadion
UID:7a08c48b89a049eb2c63122a7d619052@walddoerfer-sv.de
SUMMARY:Kreisliga 2: 2. Herren Walddörfer SV - tus Berne 2
DESCRIPTION:
CLASS:PUBLIC
DTSTART;TZID=Europe/Berlin:20221106T123000
DTEND;TZID=Europe/Berlin:20221106T140000
DTSTAMP:20221104T175423
END:VEVENT
END:VCALENDAR