BEGIN:VCALENDAR
VERSION:2.0
PRODID:https://walddoerfer-sv.de/
BEGIN:VTIMEZONE
TZID:Europe/Berlin
X-LIC-LOCATION:Europe/Berlin
BEGIN:DAYLIGHT
TZOFFSETFROM:+0100
TZOFFSETTO:+0200
TZNAME:CEST
DTSTART:19700329T020000
RRULE:FREQ=YEARLY;BYDAY=-1SU;BYMONTH=3
END:DAYLIGHT
BEGIN:STANDARD
TZOFFSETFROM:+0200
TZOFFSETTO:+0100
TZNAME:CET
DTSTART:19701025T030000
RRULE:FREQ=YEARLY;BYDAY=-1SU;BYMONTH=10
END:STANDARD
END:VTIMEZONE
BEGIN:VEVENT
LOCATION:Allhornstadion
UID:03169e689972d7b30c8e2da93208c5c4@walddoerfer-sv.de
SUMMARY:Kreisliga 2: Walddörfer 2 - USC Paloma 3
DESCRIPTION:Der achte Spieltag in der Kreisliga 2 steht an.
CLASS:PUBLIC
DTSTART;TZID=Europe/Berlin:20220918T123000
DTEND;TZID=Europe/Berlin:20220918T141500
DTSTAMP:20220917T160659
END:VEVENT
END:VCALENDAR