BEGIN:VCALENDAR
VERSION:2.0
PRODID:https://walddoerfer-sv.de/
BEGIN:VTIMEZONE
TZID:Europe/Berlin
X-LIC-LOCATION:Europe/Berlin
BEGIN:DAYLIGHT
TZOFFSETFROM:+0100
TZOFFSETTO:+0200
TZNAME:CEST
DTSTART:19700329T020000
RRULE:FREQ=YEARLY;BYDAY=-1SU;BYMONTH=3
END:DAYLIGHT
BEGIN:STANDARD
TZOFFSETFROM:+0200
TZOFFSETTO:+0100
TZNAME:CET
DTSTART:19701025T030000
RRULE:FREQ=YEARLY;BYDAY=-1SU;BYMONTH=10
END:STANDARD
END:VTIMEZONE
BEGIN:VEVENT
LOCATION:Allhornstadion
UID:bb5bea7dcb7f7cbb679279e59ab84c3b@walddoerfer-sv.de
SUMMARY:Kreisliga 6 Walddörfer SV 1. Herren - Alstertal-Langenhorn 1. Herren
DESCRIPTION:Weiter dranbleiben und aufschliessen an die Tabellenspitze heisst es gegen den Tabellenzweiten SC Alstertal-Langenhorn 1. Direkt im Anschluss an die Spiele unserer Frauenteams geht es direkt weiter mit Spannung im Allhorn - Sonntag, 18.02. - 15:00Uhr!
CLASS:PUBLIC
DTSTART;TZID=Europe/Berlin:20240218T150000
DTEND;TZID=Europe/Berlin:20240218T170000
DTSTAMP:20240216T194602
END:VEVENT
END:VCALENDAR