BEGIN:VCALENDAR
VERSION:2.0
PRODID:https://walddoerfer-sv.de/
BEGIN:VTIMEZONE
TZID:Europe/Berlin
X-LIC-LOCATION:Europe/Berlin
BEGIN:DAYLIGHT
TZOFFSETFROM:+0100
TZOFFSETTO:+0200
TZNAME:CEST
DTSTART:19700329T020000
RRULE:FREQ=YEARLY;BYDAY=-1SU;BYMONTH=3
END:DAYLIGHT
BEGIN:STANDARD
TZOFFSETFROM:+0200
TZOFFSETTO:+0100
TZNAME:CET
DTSTART:19701025T030000
RRULE:FREQ=YEARLY;BYDAY=-1SU;BYMONTH=10
END:STANDARD
END:VTIMEZONE
BEGIN:VEVENT
LOCATION:Allhornstadion
UID:30c0f3f6f2943658405a373f29361cc4@walddoerfer-sv.de
SUMMARY:Kreisliga 8: Walddörfer 1 - SC Concordia 3
DESCRIPTION:Der Dritte Spieltag in der Kreisliga 8 steht an.
CLASS:PUBLIC
DTSTART;TZID=Europe/Berlin:20220814T150000
DTEND;TZID=Europe/Berlin:20220814T164500
DTSTAMP:20220811T140726
END:VEVENT
END:VCALENDAR