BEGIN:VCALENDAR
VERSION:2.0
PRODID:https://walddoerfer-sv.de/
BEGIN:VTIMEZONE
TZID:Europe/Berlin
X-LIC-LOCATION:Europe/Berlin
BEGIN:DAYLIGHT
TZOFFSETFROM:+0100
TZOFFSETTO:+0200
TZNAME:CEST
DTSTART:19700329T020000
RRULE:FREQ=YEARLY;BYDAY=-1SU;BYMONTH=3
END:DAYLIGHT
BEGIN:STANDARD
TZOFFSETFROM:+0200
TZOFFSETTO:+0100
TZNAME:CET
DTSTART:19701025T030000
RRULE:FREQ=YEARLY;BYDAY=-1SU;BYMONTH=10
END:STANDARD
END:VTIMEZONE
BEGIN:VEVENT
LOCATION:
UID:b0294456d092bca2f8472b3f30b1f92a@walddoerfer-sv.de
SUMMARY:Kreisliga: DUWO 08 1.Herren - Walddörfer SV 1.Herren
DESCRIPTION:
CLASS:PUBLIC
DTSTART;TZID=Europe/Berlin:20211113T150000
DTEND;TZID=Europe/Berlin:20211113T170000
DTSTAMP:20211031T171218
END:VEVENT
END:VCALENDAR