BEGIN:VCALENDAR
VERSION:2.0
PRODID:https://walddoerfer-sv.de/
BEGIN:VTIMEZONE
TZID:Europe/Berlin
X-LIC-LOCATION:Europe/Berlin
BEGIN:DAYLIGHT
TZOFFSETFROM:+0100
TZOFFSETTO:+0200
TZNAME:CEST
DTSTART:19700329T020000
RRULE:FREQ=YEARLY;BYDAY=-1SU;BYMONTH=3
END:DAYLIGHT
BEGIN:STANDARD
TZOFFSETFROM:+0200
TZOFFSETTO:+0100
TZNAME:CET
DTSTART:19701025T030000
RRULE:FREQ=YEARLY;BYDAY=-1SU;BYMONTH=10
END:STANDARD
END:VTIMEZONE
BEGIN:VEVENT
LOCATION:Allhornstadion
UID:4ca62c30061ef5404b69063a42c940da@walddoerfer-sv.de
SUMMARY:Kreisliga Hamburg: Walddörfer 1.Herren - HFC Falke 2.Herren
DESCRIPTION:Das nächste Heimspiel steht an. Gegner ist der Tabellenletzte des HFC Falke 2.Herren.
CLASS:PUBLIC
DTSTART;TZID=Europe/Berlin:20240324T150000
DTEND;TZID=Europe/Berlin:20240324T170000
DTSTAMP:20240316T193040
END:VEVENT
END:VCALENDAR