BEGIN:VCALENDAR
VERSION:2.0
PRODID:https://walddoerfer-sv.de/
BEGIN:VTIMEZONE
TZID:Europe/Berlin
X-LIC-LOCATION:Europe/Berlin
BEGIN:DAYLIGHT
TZOFFSETFROM:+0100
TZOFFSETTO:+0200
TZNAME:CEST
DTSTART:19700329T020000
RRULE:FREQ=YEARLY;BYDAY=-1SU;BYMONTH=3
END:DAYLIGHT
BEGIN:STANDARD
TZOFFSETFROM:+0200
TZOFFSETTO:+0100
TZNAME:CET
DTSTART:19701025T030000
RRULE:FREQ=YEARLY;BYDAY=-1SU;BYMONTH=10
END:STANDARD
END:VTIMEZONE
BEGIN:VEVENT
LOCATION:Allhornstadion
UID:7e374587dbe3b224bf4a1bdcfbc6c304@walddoerfer-sv.de
SUMMARY:Kreisliga Hamburg: Walddörfer 1.Herren - Lohkamp 1.Herren
DESCRIPTION:Unsere 1.Herren ist seit 15 Spielen ungeschlagen (13 Siege, 2 Unentschieden) und ist auf dem Weg den Sprung in die Bezirksliga zu schaffen. Auch hier freuen wir uns über Support am Sonntagabend!
CLASS:PUBLIC
DTSTART;TZID=Europe/Berlin:20240303T180000
DTEND;TZID=Europe/Berlin:20240303T200000
DTSTAMP:20240229T235525
END:VEVENT
END:VCALENDAR