BEGIN:VCALENDAR
VERSION:2.0
PRODID:https://walddoerfer-sv.de/
BEGIN:VTIMEZONE
TZID:Europe/Berlin
X-LIC-LOCATION:Europe/Berlin
BEGIN:DAYLIGHT
TZOFFSETFROM:+0100
TZOFFSETTO:+0200
TZNAME:CEST
DTSTART:19700329T020000
RRULE:FREQ=YEARLY;BYDAY=-1SU;BYMONTH=3
END:DAYLIGHT
BEGIN:STANDARD
TZOFFSETFROM:+0200
TZOFFSETTO:+0100
TZNAME:CET
DTSTART:19701025T030000
RRULE:FREQ=YEARLY;BYDAY=-1SU;BYMONTH=10
END:STANDARD
END:VTIMEZONE
BEGIN:VEVENT
LOCATION:Allhornstadion
UID:d5f0a10a6be7160e035c56af047c6d7f@walddoerfer-sv.de
SUMMARY:Kreisliga Hamburg: Walddörfer 2.Herren - SC Poppenbüttel 2.Herren
DESCRIPTION:Unsere 2.Herren trifft am Sonntag Nachmittag auf die Nachbarn aus Poppenbüttel. Wir freuen uns auf Support von den Rängen, unmittelbar nach dem Spiel unserer 1. Frauen.
CLASS:PUBLIC
DTSTART;TZID=Europe/Berlin:20240317T150000
DTEND;TZID=Europe/Berlin:20240317T170000
DTSTAMP:20240316T132822
END:VEVENT
END:VCALENDAR