BEGIN:VCALENDAR
VERSION:2.0
PRODID:https://walddoerfer-sv.de/
BEGIN:VTIMEZONE
TZID:Europe/Berlin
X-LIC-LOCATION:Europe/Berlin
BEGIN:DAYLIGHT
TZOFFSETFROM:+0100
TZOFFSETTO:+0200
TZNAME:CEST
DTSTART:19700329T020000
RRULE:FREQ=YEARLY;BYDAY=-1SU;BYMONTH=3
END:DAYLIGHT
BEGIN:STANDARD
TZOFFSETFROM:+0200
TZOFFSETTO:+0100
TZNAME:CET
DTSTART:19701025T030000
RRULE:FREQ=YEARLY;BYDAY=-1SU;BYMONTH=10
END:STANDARD
END:VTIMEZONE
BEGIN:VEVENT
LOCATION:Allhornstadion
UID:38536241de56dcd22b0c79f4d93330b0@walddoerfer-sv.de
SUMMARY:Kreisliga Hamburg: Walddörfer 2.Herren - TuS Berne 2.Herren
DESCRIPTION:Unsere Nachbarn aus Berne zu Gast in der Kreisliga.
CLASS:PUBLIC
DTSTART;TZID=Europe/Berlin:20240831T173000
DTEND;TZID=Europe/Berlin:20240831T193000
DTSTAMP:20240830T001210
END:VEVENT
END:VCALENDAR