BEGIN:VCALENDAR
VERSION:2.0
PRODID:https://walddoerfer-sv.de/
BEGIN:VTIMEZONE
TZID:Europe/Berlin
X-LIC-LOCATION:Europe/Berlin
BEGIN:DAYLIGHT
TZOFFSETFROM:+0100
TZOFFSETTO:+0200
TZNAME:CEST
DTSTART:19700329T020000
RRULE:FREQ=YEARLY;BYDAY=-1SU;BYMONTH=3
END:DAYLIGHT
BEGIN:STANDARD
TZOFFSETFROM:+0200
TZOFFSETTO:+0100
TZNAME:CET
DTSTART:19701025T030000
RRULE:FREQ=YEARLY;BYDAY=-1SU;BYMONTH=10
END:STANDARD
END:VTIMEZONE
BEGIN:VEVENT
LOCATION:Allhornstadion
UID:505c4dc8b991966b82e39be491f03432@walddoerfer-sv.de
SUMMARY:Kreisliga Hamburg: Walddörfer 2.Herren - VSG Stapelfeld 1.Herren
DESCRIPTION:In einem Nachholspiel trifft unsere 2.Herren an einem Donnerstag Abend auf die direkte Tabellenkonkurrenz der VSG Stapelfeld 1.Herren.
CLASS:PUBLIC
DTSTART;TZID=Europe/Berlin:20240328T190000
DTEND;TZID=Europe/Berlin:20240328T210000
DTSTAMP:20240316T193423
END:VEVENT
END:VCALENDAR