BEGIN:VCALENDAR
VERSION:2.0
PRODID:https://walddoerfer-sv.de/
BEGIN:VTIMEZONE
TZID:Europe/Berlin
X-LIC-LOCATION:Europe/Berlin
BEGIN:DAYLIGHT
TZOFFSETFROM:+0100
TZOFFSETTO:+0200
TZNAME:CEST
DTSTART:19700329T020000
RRULE:FREQ=YEARLY;BYDAY=-1SU;BYMONTH=3
END:DAYLIGHT
BEGIN:STANDARD
TZOFFSETFROM:+0200
TZOFFSETTO:+0100
TZNAME:CET
DTSTART:19701025T030000
RRULE:FREQ=YEARLY;BYDAY=-1SU;BYMONTH=10
END:STANDARD
END:VTIMEZONE
BEGIN:VEVENT
LOCATION:Kunstrasenplatz, Scharbeutzerstr. 3
UID:5e3a70e9c3e51c0cd92e24b297567901@walddoerfer-sv.de
SUMMARY:Kreisliga:  Rahlstedt 2.Herren - Walddörfer SV 1.Herren
DESCRIPTION:
CLASS:PUBLIC
DTSTART;TZID=Europe/Berlin:20211017T123000
DTEND;TZID=Europe/Berlin:20211017T143000
DTSTAMP:20211003T212521
END:VEVENT
END:VCALENDAR