BEGIN:VCALENDAR
VERSION:2.0
PRODID:https://walddoerfer-sv.de/
BEGIN:VTIMEZONE
TZID:Europe/Berlin
X-LIC-LOCATION:Europe/Berlin
BEGIN:DAYLIGHT
TZOFFSETFROM:+0100
TZOFFSETTO:+0200
TZNAME:CEST
DTSTART:19700329T020000
RRULE:FREQ=YEARLY;BYDAY=-1SU;BYMONTH=3
END:DAYLIGHT
BEGIN:STANDARD
TZOFFSETFROM:+0200
TZOFFSETTO:+0100
TZNAME:CET
DTSTART:19701025T030000
RRULE:FREQ=YEARLY;BYDAY=-1SU;BYMONTH=10
END:STANDARD
END:VTIMEZONE
BEGIN:VEVENT
LOCATION:Kunstrasenplatz, Stad. Allhorn
UID:62595a99d851b0935a135e8dbee03463@walddoerfer-sv.de
SUMMARY:Kreisliga : Walddörfer SV 1.Herren -  Urania 1.Herren
DESCRIPTION:
CLASS:PUBLIC
DTSTART;TZID=Europe/Berlin:20180311T104500
DTEND;TZID=Europe/Berlin:20180311T124500
DTSTAMP:20180120T174024
END:VEVENT
END:VCALENDAR