BEGIN:VCALENDAR
VERSION:2.0
PRODID:https://walddoerfer-sv.de/
BEGIN:VTIMEZONE
TZID:Europe/Berlin
X-LIC-LOCATION:Europe/Berlin
BEGIN:DAYLIGHT
TZOFFSETFROM:+0100
TZOFFSETTO:+0200
TZNAME:CEST
DTSTART:19700329T020000
RRULE:FREQ=YEARLY;BYDAY=-1SU;BYMONTH=3
END:DAYLIGHT
BEGIN:STANDARD
TZOFFSETFROM:+0200
TZOFFSETTO:+0100
TZNAME:CET
DTSTART:19701025T030000
RRULE:FREQ=YEARLY;BYDAY=-1SU;BYMONTH=10
END:STANDARD
END:VTIMEZONE
BEGIN:VEVENT
LOCATION:Kunstrasenplatz, Stad. Allhorn, Ahrensburger Weg 28, 22359 Hamburg
UID:b0310cd7a439158ff9a076863a71d512@walddoerfer-sv.de
SUMMARY:Kreisliga: Walddörfer SV 1.Herren - Wellingsbüttel 2.Herren
DESCRIPTION:
CLASS:PUBLIC
DTSTART;TZID=Europe/Berlin:20220130T150000
DTEND;TZID=Europe/Berlin:20220130T170000
DTSTAMP:20211204T152223
END:VEVENT
END:VCALENDAR