BEGIN:VCALENDAR
VERSION:2.0
PRODID:https://walddoerfer-sv.de/
BEGIN:VTIMEZONE
TZID:Europe/Berlin
X-LIC-LOCATION:Europe/Berlin
BEGIN:DAYLIGHT
TZOFFSETFROM:+0100
TZOFFSETTO:+0200
TZNAME:CEST
DTSTART:19700329T020000
RRULE:FREQ=YEARLY;BYDAY=-1SU;BYMONTH=3
END:DAYLIGHT
BEGIN:STANDARD
TZOFFSETFROM:+0200
TZOFFSETTO:+0100
TZNAME:CET
DTSTART:19701025T030000
RRULE:FREQ=YEARLY;BYDAY=-1SU;BYMONTH=10
END:STANDARD
END:VTIMEZONE
BEGIN:VEVENT
LOCATION:Rasenplatz, Sportpark Hinschenfelde, Walddörferstr. 247, 22047 Hamburg
UID:6bee5e14c5bdd4bf74d210817b6705f3@walddoerfer-sv.de
SUMMARY:Kreisliga: Wandsetal 1.Herren - Walddörfer SV 1.Herren
DESCRIPTION:
CLASS:PUBLIC
DTSTART;TZID=Europe/Berlin:20180420T193000
DTEND;TZID=Europe/Berlin:20180420T213000
DTSTAMP:20180120T175226
END:VEVENT
END:VCALENDAR