BEGIN:VCALENDAR
VERSION:2.0
PRODID:https://walddoerfer-sv.de/
BEGIN:VTIMEZONE
TZID:Europe/Berlin
X-LIC-LOCATION:Europe/Berlin
BEGIN:DAYLIGHT
TZOFFSETFROM:+0100
TZOFFSETTO:+0200
TZNAME:CEST
DTSTART:19700329T020000
RRULE:FREQ=YEARLY;BYDAY=-1SU;BYMONTH=3
END:DAYLIGHT
BEGIN:STANDARD
TZOFFSETFROM:+0200
TZOFFSETTO:+0100
TZNAME:CET
DTSTART:19701025T030000
RRULE:FREQ=YEARLY;BYDAY=-1SU;BYMONTH=10
END:STANDARD
END:VTIMEZONE
BEGIN:VEVENT
LOCATION:Allhorn Stadion
UID:375e2617c4d7b1caa4a19c27cdeebb03@walddoerfer-sv.de
SUMMARY:LOTTO Pokal Achtelfinale: 2. Frauen Walddörfer SV gegen 1. Frauen FC Union Tornesch
DESCRIPTION:
CLASS:PUBLIC
DTSTART;TZID=Europe/Berlin:20221105T103000
DTEND;TZID=Europe/Berlin:20221105T123000
DTSTAMP:20221104T171205
END:VEVENT
END:VCALENDAR