BEGIN:VCALENDAR
VERSION:2.0
PRODID:https://walddoerfer-sv.de/
BEGIN:VTIMEZONE
TZID:Europe/Berlin
X-LIC-LOCATION:Europe/Berlin
BEGIN:DAYLIGHT
TZOFFSETFROM:+0100
TZOFFSETTO:+0200
TZNAME:CEST
DTSTART:19700329T020000
RRULE:FREQ=YEARLY;BYDAY=-1SU;BYMONTH=3
END:DAYLIGHT
BEGIN:STANDARD
TZOFFSETFROM:+0200
TZOFFSETTO:+0100
TZNAME:CET
DTSTART:19701025T030000
RRULE:FREQ=YEARLY;BYDAY=-1SU;BYMONTH=10
END:STANDARD
END:VTIMEZONE
BEGIN:VEVENT
LOCATION:Allhorn Stadion
UID:c7940f21bf008f733f0d4eed62105537@walddoerfer-sv.de
SUMMARY:LOTTO Pokal Halbfinale 1.B-Junioren: Walddörfer SV - FC St. Pauli U17 (Bundesliga)
DESCRIPTION:
CLASS:PUBLIC
DTSTART;TZID=Europe/Berlin:20250508T190000
DTEND;TZID=Europe/Berlin:20250508T230000
DTSTAMP:20250507T153545
END:VEVENT
END:VCALENDAR