BEGIN:VCALENDAR
VERSION:2.0
PRODID:https://walddoerfer-sv.de/
BEGIN:VTIMEZONE
TZID:Europe/Berlin
X-LIC-LOCATION:Europe/Berlin
BEGIN:DAYLIGHT
TZOFFSETFROM:+0100
TZOFFSETTO:+0200
TZNAME:CEST
DTSTART:19700329T020000
RRULE:FREQ=YEARLY;BYDAY=-1SU;BYMONTH=3
END:DAYLIGHT
BEGIN:STANDARD
TZOFFSETFROM:+0200
TZOFFSETTO:+0100
TZNAME:CET
DTSTART:19701025T030000
RRULE:FREQ=YEARLY;BYDAY=-1SU;BYMONTH=10
END:STANDARD
END:VTIMEZONE
BEGIN:VEVENT
LOCATION:Allhorn Stadion
UID:f7eab362152e6deb2bdfa28754fcefbf@walddoerfer-sv.de
SUMMARY:LOTTO Pokal Halbfinale A-Junioren: Walddörfer SV - FC St. Pauli
DESCRIPTION:
CLASS:PUBLIC
DTSTART;TZID=Europe/Berlin:20250507T190000
DTEND;TZID=Europe/Berlin:20250507T210000
DTSTAMP:20250417T102441
END:VEVENT
END:VCALENDAR