BEGIN:VCALENDAR
VERSION:2.0
PRODID:https://walddoerfer-sv.de/
BEGIN:VTIMEZONE
TZID:Europe/Berlin
X-LIC-LOCATION:Europe/Berlin
BEGIN:DAYLIGHT
TZOFFSETFROM:+0100
TZOFFSETTO:+0200
TZNAME:CEST
DTSTART:19700329T020000
RRULE:FREQ=YEARLY;BYDAY=-1SU;BYMONTH=3
END:DAYLIGHT
BEGIN:STANDARD
TZOFFSETFROM:+0200
TZOFFSETTO:+0100
TZNAME:CET
DTSTART:19701025T030000
RRULE:FREQ=YEARLY;BYDAY=-1SU;BYMONTH=10
END:STANDARD
END:VTIMEZONE
BEGIN:VEVENT
LOCATION:Allhornstadion
UID:e1bf37b55b376f4d6a32d3a2a164e022@walddoerfer-sv.de
SUMMARY:Oberliga Hamburg: 1. Frauen Walddörfer SV - Egenbüttel 1. Frauen
DESCRIPTION:Weiter dranbleiben an der Tabellenspitze heisst es gegen Egenbüttel 1. Frauen. Unsere 1. Frauen teilen sich gerade Platz 1 mit den 1. Frauen des ETV, nur das Torverhältnis der Eimsbüttlerinnen ist etwas besser. Nun kommt der Tabellenvorletzte Egenbüttel ins Stadion Allhorn, und wir wollen gern die 3 Punkte hier behalten.
CLASS:PUBLIC
DTSTART;TZID=Europe/Berlin:20231112T140000
DTEND;TZID=Europe/Berlin:20231112T160000
DTSTAMP:20231108T162350
END:VEVENT
END:VCALENDAR