BEGIN:VCALENDAR
VERSION:2.0
PRODID:https://walddoerfer-sv.de/
BEGIN:VTIMEZONE
TZID:Europe/Berlin
X-LIC-LOCATION:Europe/Berlin
BEGIN:DAYLIGHT
TZOFFSETFROM:+0100
TZOFFSETTO:+0200
TZNAME:CEST
DTSTART:19700329T020000
RRULE:FREQ=YEARLY;BYDAY=-1SU;BYMONTH=3
END:DAYLIGHT
BEGIN:STANDARD
TZOFFSETFROM:+0200
TZOFFSETTO:+0100
TZNAME:CET
DTSTART:19701025T030000
RRULE:FREQ=YEARLY;BYDAY=-1SU;BYMONTH=10
END:STANDARD
END:VTIMEZONE
BEGIN:VEVENT
LOCATION:Stadion Hoheluft - Lokstedter Steindamm 87, 22529 Hamburg
UID:e851f0b88b089b5cc534b182f36e8f60@walddoerfer-sv.de
SUMMARY:Pokalfinale! B-Juniorinnen versuchen das Double zu verteidigen
DESCRIPTION:Als frisch gebackener Hamburger Meister  - ohne Punktverlust und ohne ein einziges Gegentor - bereiten sich die B-Juniorinnen zurzeit auf das Pokalfinale vor. Am Sonntag, dem 21. Mai, Anstoß um 12 Uhr m Stadion Hoheluft, soll eine bis dahin sehr erfolgreiche Saison der B-Juniorinnen des Walddörfer SV, mit einem Sieg im Pokalfinale gegen die Vertretung vom TSV Reinbek gekrönt werden.
CLASS:PUBLIC
DTSTART;TZID=Europe/Berlin:20170521T120000
DTEND;TZID=Europe/Berlin:20170521T140000
DTSTAMP:20170512T131725
END:VEVENT
END:VCALENDAR