BEGIN:VCALENDAR
VERSION:2.0
PRODID:https://walddoerfer-sv.de/
BEGIN:VTIMEZONE
TZID:Europe/Berlin
X-LIC-LOCATION:Europe/Berlin
BEGIN:DAYLIGHT
TZOFFSETFROM:+0100
TZOFFSETTO:+0200
TZNAME:CEST
DTSTART:19700329T020000
RRULE:FREQ=YEARLY;BYDAY=-1SU;BYMONTH=3
END:DAYLIGHT
BEGIN:STANDARD
TZOFFSETFROM:+0200
TZOFFSETTO:+0100
TZNAME:CET
DTSTART:19701025T030000
RRULE:FREQ=YEARLY;BYDAY=-1SU;BYMONTH=10
END:STANDARD
END:VTIMEZONE
BEGIN:VEVENT
LOCATION:Allhornstadion
UID:b397a0dfa0ac36bff4a86ab72759bd7c@walddoerfer-sv.de
SUMMARY:Regionalliga Frauen: 1. Frauen Walddörfer SV gegen 1. Frauen TSC Wellingsbüttel
DESCRIPTION:
CLASS:PUBLIC
DTSTART;TZID=Europe/Berlin:20220529T140000
DTEND;TZID=Europe/Berlin:20220529T160000
DTSTAMP:20220524T084907
END:VEVENT
END:VCALENDAR